BEGIN:VCALENDAR
VERSION:2.0
PRODID:-//Collaborative Center For Justice - ECPv6.15.20//NONSGML v1.0//EN
CALSCALE:GREGORIAN
METHOD:PUBLISH
X-ORIGINAL-URL:https://ccfj.org
X-WR-CALDESC:Events for Collaborative Center For Justice
REFRESH-INTERVAL;VALUE=DURATION:PT1H
X-Robots-Tag:noindex
X-PUBLISHED-TTL:PT1H
BEGIN:VTIMEZONE
TZID:America/New_York
BEGIN:DAYLIGHT
TZOFFSETFROM:-0500
TZOFFSETTO:-0400
TZNAME:EDT
DTSTART:20180311T070000
END:DAYLIGHT
BEGIN:STANDARD
TZOFFSETFROM:-0400
TZOFFSETTO:-0500
TZNAME:EST
DTSTART:20181104T060000
END:STANDARD
BEGIN:DAYLIGHT
TZOFFSETFROM:-0500
TZOFFSETTO:-0400
TZNAME:EDT
DTSTART:20190310T070000
END:DAYLIGHT
BEGIN:STANDARD
TZOFFSETFROM:-0400
TZOFFSETTO:-0500
TZNAME:EST
DTSTART:20191103T060000
END:STANDARD
BEGIN:DAYLIGHT
TZOFFSETFROM:-0500
TZOFFSETTO:-0400
TZNAME:EDT
DTSTART:20200308T070000
END:DAYLIGHT
BEGIN:STANDARD
TZOFFSETFROM:-0400
TZOFFSETTO:-0500
TZNAME:EST
DTSTART:20201101T060000
END:STANDARD
END:VTIMEZONE
BEGIN:VEVENT
DTSTART;TZID=America/New_York:20190117T040000
DTEND;TZID=America/New_York:20190117T090000
DTSTAMP:20260425T215144
CREATED:20181218T204116Z
LAST-MODIFIED:20190115T000728Z
UID:3085-1547697600-1547715600@ccfj.org
SUMMARY:CTLCV Environmental Summit
DESCRIPTION:Join experts\, leaders\, and advocates to learn about pressing environmental issues in CT as we prepare for 2019. \nFree and open to the public\, but prior registration needed: https://www.ctlcv.org/summit.html
URL:https://ccfj.org/event/ctlcv-environmental-summit/
LOCATION:Trinity College\, Washington Room in Mather Hall (2nd Floor) 300 Summit St\, Hartford\, 300 Summit St\, Hartford\, CT 06106
CATEGORIES:Forum
END:VEVENT
BEGIN:VEVENT
DTSTART;TZID=America/New_York:20190109T080000
DTEND;TZID=America/New_York:20190109T103000
DTSTAMP:20260425T215144
CREATED:20190108T234218Z
LAST-MODIFIED:20190108T234218Z
UID:3136-1547020800-1547029800@ccfj.org
SUMMARY:Stand Up for Paid Leave: Visibility Event at the LOB
DESCRIPTION:Join other supporters of the CT Campaign for Paid Family Leave for a visibility event at the Legislative Office Building (LOB) on the first day of the 2019 Legislative Session. This is a chance to show your support and urge legislators to support a comprehensive paid family and medical leave system in CT this year. \nThe group will meet in room 1E of the LOB at 1pm on Wednesday for a brief overview of paid family and medical leave. The group will then line the concourse that connects the Legislative Office Building to the State Capitol and speak with lawmakers as they walk from the swearing in ceremony at the State Armory to the House Chamber\, where Governor-elect will deliver an address at 2 pm. \nPlease note that this will be a busy day at the Capitol and LOB due to the Inauguration and the beginning of the session.  Please check out the Campaign for Paid Family Leave’s Facebook event for more information and to RSVP.  Learn more about the proposal for a Paid Family and Medical Leave program in CT at: https://paidfamilyleavect.org/
URL:https://ccfj.org/event/stand-up-for-paid-leave-visibility-event-at-the-lob/
LOCATION:CT Legislative Office Building\, Hartford\, CT
END:VEVENT
BEGIN:VEVENT
DTSTART;VALUE=DATE:20190108
DTEND;VALUE=DATE:20190110
DTSTAMP:20260425T215144
CREATED:20190108T232634Z
LAST-MODIFIED:20190108T232634Z
UID:3128-1546974000-1547060399@ccfj.org
SUMMARY:First Day of 2019 CT Legislative Session
DESCRIPTION:The 2019 Legislative Session in CT will run from January 9 – June 5.  Check out https://www.cga.ct.gov/ for more information about schedules\, bills\, and how to contact your legislators.
URL:https://ccfj.org/event/first-day-of-2019-ct-legislative-session/
LOCATION:CT Legislative Office Building\, 300 Capitol Ave\, Hartford\, CT
END:VEVENT
BEGIN:VEVENT
DTSTART;TZID=America/New_York:20190104T043000
DTEND;TZID=America/New_York:20190104T060000
DTSTAMP:20260425T215144
CREATED:20181218T000656Z
LAST-MODIFIED:20181218T000656Z
UID:3051-1546576200-1546581600@ccfj.org
SUMMARY:CABHN Meeting
DESCRIPTION:Connecticut Alliance for Basic Human Needs (CABHN) meets monthly on the first Friday of the month from 9:30am-11:00am. All are welcome. \nCABHN is a statewide network of social service providers\, advocates\, faith-based organizations\, and individuals. The common goal of CABHN members is improving the lives of people in poverty by strengthening public benefits programs\, educating people about their rights and the community resources available to them\, and improving policies to help families transition out of poverty and become economically secure.
URL:https://ccfj.org/event/cabhn-meeting/
LOCATION:AARP Building\, 21 Oak Street\, Hartford\, 21 Oak Street\, Hartford\, CT
CATEGORIES:CABHN
ORGANIZER;CN="CABHN":MAILTO:cabhn@endhungerct.org
END:VEVENT
END:VCALENDAR